BEGIN:VCALENDAR
VERSION:2.0
PRODID:icalendar-ruby
CALSCALE:GREGORIAN
METHOD:PUBLISH
X-WR-CALNAME:Monday Night Delta Thistle Open Doubles League – 2026/27 Sea
 son Schedule
BEGIN:VTIMEZONE
TZID:America/Los_Angeles
BEGIN:DAYLIGHT
DTSTART:20260308T030000
TZOFFSETFROM:-0800
TZOFFSETTO:-0700
RRULE:FREQ=YEARLY;BYDAY=2SU;BYMONTH=3
TZNAME:PDT
END:DAYLIGHT
BEGIN:STANDARD
DTSTART:20261101T010000
TZOFFSETFROM:-0700
TZOFFSETTO:-0800
RRULE:FREQ=YEARLY;BYDAY=1SU;BYMONTH=11
TZNAME:PST
END:STANDARD
END:VTIMEZONE
BEGIN:VEVENT
DTSTAMP:20260419T170530Z
UID:drawid:207764
DTSTART:20260914T190000
DTEND:20260914T210000
DESCRIPTION:Games: TBD\, TBD
LOCATION:1415 84th Ave\, North Delta\, V4C 2L9\, BC\, CA
SEQUENCE:1776618330
SUMMARY:Monday Night Delta Thistle Open Doubles League – 2026/27 Season
URL;VALUE=URI:https://delta-thistle.curling.io/en/events/27188-monday-night
 -delta-thistle-open-doubles-league-2026-27-season/draws
END:VEVENT
BEGIN:VEVENT
DTSTAMP:20260419T170530Z
UID:drawid:207765
DTSTART:20260914T203000
DTEND:20260914T223000
DESCRIPTION:Games: TBD\, TBD
LOCATION:1415 84th Ave\, North Delta\, V4C 2L9\, BC\, CA
SEQUENCE:1776618330
SUMMARY:Monday Night Delta Thistle Open Doubles League – 2026/27 Season
URL;VALUE=URI:https://delta-thistle.curling.io/en/events/27188-monday-night
 -delta-thistle-open-doubles-league-2026-27-season/draws
END:VEVENT
BEGIN:VEVENT
DTSTAMP:20260419T170530Z
UID:drawid:207766
DTSTART:20260921T190000
DTEND:20260921T210000
DESCRIPTION:Games: TBD\, TBD
LOCATION:1415 84th Ave\, North Delta\, V4C 2L9\, BC\, CA
SEQUENCE:1776618330
SUMMARY:Monday Night Delta Thistle Open Doubles League – 2026/27 Season
URL;VALUE=URI:https://delta-thistle.curling.io/en/events/27188-monday-night
 -delta-thistle-open-doubles-league-2026-27-season/draws
END:VEVENT
BEGIN:VEVENT
DTSTAMP:20260419T170530Z
UID:drawid:207767
DTSTART:20260921T203000
DTEND:20260921T223000
DESCRIPTION:Games: TBD\, TBD
LOCATION:1415 84th Ave\, North Delta\, V4C 2L9\, BC\, CA
SEQUENCE:1776618330
SUMMARY:Monday Night Delta Thistle Open Doubles League – 2026/27 Season
URL;VALUE=URI:https://delta-thistle.curling.io/en/events/27188-monday-night
 -delta-thistle-open-doubles-league-2026-27-season/draws
END:VEVENT
BEGIN:VEVENT
DTSTAMP:20260419T170530Z
UID:drawid:207768
DTSTART:20260928T190000
DTEND:20260928T210000
DESCRIPTION:Games: TBD\, TBD
LOCATION:1415 84th Ave\, North Delta\, V4C 2L9\, BC\, CA
SEQUENCE:1776618330
SUMMARY:Monday Night Delta Thistle Open Doubles League – 2026/27 Season
URL;VALUE=URI:https://delta-thistle.curling.io/en/events/27188-monday-night
 -delta-thistle-open-doubles-league-2026-27-season/draws
END:VEVENT
BEGIN:VEVENT
DTSTAMP:20260419T170530Z
UID:drawid:207769
DTSTART:20260928T203000
DTEND:20260928T223000
DESCRIPTION:Games: TBD\, TBD
LOCATION:1415 84th Ave\, North Delta\, V4C 2L9\, BC\, CA
SEQUENCE:1776618330
SUMMARY:Monday Night Delta Thistle Open Doubles League – 2026/27 Season
URL;VALUE=URI:https://delta-thistle.curling.io/en/events/27188-monday-night
 -delta-thistle-open-doubles-league-2026-27-season/draws
END:VEVENT
BEGIN:VEVENT
DTSTAMP:20260419T170530Z
UID:drawid:207770
DTSTART:20261005T190000
DTEND:20261005T210000
DESCRIPTION:Games: TBD\, TBD
LOCATION:1415 84th Ave\, North Delta\, V4C 2L9\, BC\, CA
SEQUENCE:1776618330
SUMMARY:Monday Night Delta Thistle Open Doubles League – 2026/27 Season
URL;VALUE=URI:https://delta-thistle.curling.io/en/events/27188-monday-night
 -delta-thistle-open-doubles-league-2026-27-season/draws
END:VEVENT
BEGIN:VEVENT
DTSTAMP:20260419T170530Z
UID:drawid:207771
DTSTART:20261005T203000
DTEND:20261005T223000
DESCRIPTION:Games: TBD\, TBD
LOCATION:1415 84th Ave\, North Delta\, V4C 2L9\, BC\, CA
SEQUENCE:1776618330
SUMMARY:Monday Night Delta Thistle Open Doubles League – 2026/27 Season
URL;VALUE=URI:https://delta-thistle.curling.io/en/events/27188-monday-night
 -delta-thistle-open-doubles-league-2026-27-season/draws
END:VEVENT
BEGIN:VEVENT
DTSTAMP:20260419T170530Z
UID:drawid:207772
DTSTART:20261019T190000
DTEND:20261019T210000
DESCRIPTION:Games: TBD\, TBD
LOCATION:1415 84th Ave\, North Delta\, V4C 2L9\, BC\, CA
SEQUENCE:1776618330
SUMMARY:Monday Night Delta Thistle Open Doubles League – 2026/27 Season
URL;VALUE=URI:https://delta-thistle.curling.io/en/events/27188-monday-night
 -delta-thistle-open-doubles-league-2026-27-season/draws
END:VEVENT
BEGIN:VEVENT
DTSTAMP:20260419T170530Z
UID:drawid:207773
DTSTART:20261019T203000
DTEND:20261019T223000
DESCRIPTION:Games: TBD\, TBD
LOCATION:1415 84th Ave\, North Delta\, V4C 2L9\, BC\, CA
SEQUENCE:1776618330
SUMMARY:Monday Night Delta Thistle Open Doubles League – 2026/27 Season
URL;VALUE=URI:https://delta-thistle.curling.io/en/events/27188-monday-night
 -delta-thistle-open-doubles-league-2026-27-season/draws
END:VEVENT
BEGIN:VEVENT
DTSTAMP:20260419T170530Z
UID:drawid:207774
DTSTART:20261026T190000
DTEND:20261026T210000
DESCRIPTION:Games: TBD\, TBD
LOCATION:1415 84th Ave\, North Delta\, V4C 2L9\, BC\, CA
SEQUENCE:1776618330
SUMMARY:Monday Night Delta Thistle Open Doubles League – 2026/27 Season
URL;VALUE=URI:https://delta-thistle.curling.io/en/events/27188-monday-night
 -delta-thistle-open-doubles-league-2026-27-season/draws
END:VEVENT
BEGIN:VEVENT
DTSTAMP:20260419T170530Z
UID:drawid:207775
DTSTART:20261026T203000
DTEND:20261026T223000
DESCRIPTION:Games: TBD\, TBD
LOCATION:1415 84th Ave\, North Delta\, V4C 2L9\, BC\, CA
SEQUENCE:1776618330
SUMMARY:Monday Night Delta Thistle Open Doubles League – 2026/27 Season
URL;VALUE=URI:https://delta-thistle.curling.io/en/events/27188-monday-night
 -delta-thistle-open-doubles-league-2026-27-season/draws
END:VEVENT
BEGIN:VEVENT
DTSTAMP:20260419T170530Z
UID:drawid:207776
DTSTART:20261102T190000
DTEND:20261102T210000
DESCRIPTION:Games: TBD\, TBD
LOCATION:1415 84th Ave\, North Delta\, V4C 2L9\, BC\, CA
SEQUENCE:1776618330
SUMMARY:Monday Night Delta Thistle Open Doubles League – 2026/27 Season
URL;VALUE=URI:https://delta-thistle.curling.io/en/events/27188-monday-night
 -delta-thistle-open-doubles-league-2026-27-season/draws
END:VEVENT
BEGIN:VEVENT
DTSTAMP:20260419T170530Z
UID:drawid:207777
DTSTART:20261102T203000
DTEND:20261102T223000
DESCRIPTION:Games: TBD\, TBD
LOCATION:1415 84th Ave\, North Delta\, V4C 2L9\, BC\, CA
SEQUENCE:1776618330
SUMMARY:Monday Night Delta Thistle Open Doubles League – 2026/27 Season
URL;VALUE=URI:https://delta-thistle.curling.io/en/events/27188-monday-night
 -delta-thistle-open-doubles-league-2026-27-season/draws
END:VEVENT
BEGIN:VEVENT
DTSTAMP:20260419T170530Z
UID:drawid:207778
DTSTART:20261109T190000
DTEND:20261109T210000
DESCRIPTION:Games: TBD\, TBD
LOCATION:1415 84th Ave\, North Delta\, V4C 2L9\, BC\, CA
SEQUENCE:1776618330
SUMMARY:Monday Night Delta Thistle Open Doubles League – 2026/27 Season
URL;VALUE=URI:https://delta-thistle.curling.io/en/events/27188-monday-night
 -delta-thistle-open-doubles-league-2026-27-season/draws
END:VEVENT
BEGIN:VEVENT
DTSTAMP:20260419T170530Z
UID:drawid:207779
DTSTART:20261109T203000
DTEND:20261109T223000
DESCRIPTION:Games: TBD\, TBD
LOCATION:1415 84th Ave\, North Delta\, V4C 2L9\, BC\, CA
SEQUENCE:1776618330
SUMMARY:Monday Night Delta Thistle Open Doubles League – 2026/27 Season
URL;VALUE=URI:https://delta-thistle.curling.io/en/events/27188-monday-night
 -delta-thistle-open-doubles-league-2026-27-season/draws
END:VEVENT
BEGIN:VEVENT
DTSTAMP:20260419T170530Z
UID:drawid:207780
DTSTART:20261116T190000
DTEND:20261116T210000
DESCRIPTION:Games: TBD\, TBD
LOCATION:1415 84th Ave\, North Delta\, V4C 2L9\, BC\, CA
SEQUENCE:1776618330
SUMMARY:Monday Night Delta Thistle Open Doubles League – 2026/27 Season
URL;VALUE=URI:https://delta-thistle.curling.io/en/events/27188-monday-night
 -delta-thistle-open-doubles-league-2026-27-season/draws
END:VEVENT
BEGIN:VEVENT
DTSTAMP:20260419T170530Z
UID:drawid:207781
DTSTART:20261116T203000
DTEND:20261116T223000
DESCRIPTION:Games: TBD\, TBD
LOCATION:1415 84th Ave\, North Delta\, V4C 2L9\, BC\, CA
SEQUENCE:1776618330
SUMMARY:Monday Night Delta Thistle Open Doubles League – 2026/27 Season
URL;VALUE=URI:https://delta-thistle.curling.io/en/events/27188-monday-night
 -delta-thistle-open-doubles-league-2026-27-season/draws
END:VEVENT
BEGIN:VEVENT
DTSTAMP:20260419T170530Z
UID:drawid:207782
DTSTART:20261123T190000
DTEND:20261123T210000
DESCRIPTION:Games: TBD\, TBD
LOCATION:1415 84th Ave\, North Delta\, V4C 2L9\, BC\, CA
SEQUENCE:1776618330
SUMMARY:Monday Night Delta Thistle Open Doubles League – 2026/27 Season
URL;VALUE=URI:https://delta-thistle.curling.io/en/events/27188-monday-night
 -delta-thistle-open-doubles-league-2026-27-season/draws
END:VEVENT
BEGIN:VEVENT
DTSTAMP:20260419T170530Z
UID:drawid:207783
DTSTART:20261123T203000
DTEND:20261123T223000
DESCRIPTION:Games: TBD\, TBD
LOCATION:1415 84th Ave\, North Delta\, V4C 2L9\, BC\, CA
SEQUENCE:1776618330
SUMMARY:Monday Night Delta Thistle Open Doubles League – 2026/27 Season
URL;VALUE=URI:https://delta-thistle.curling.io/en/events/27188-monday-night
 -delta-thistle-open-doubles-league-2026-27-season/draws
END:VEVENT
BEGIN:VEVENT
DTSTAMP:20260419T170530Z
UID:drawid:207784
DTSTART:20261130T190000
DTEND:20261130T210000
DESCRIPTION:Games: TBD\, TBD
LOCATION:1415 84th Ave\, North Delta\, V4C 2L9\, BC\, CA
SEQUENCE:1776618330
SUMMARY:Monday Night Delta Thistle Open Doubles League – 2026/27 Season
URL;VALUE=URI:https://delta-thistle.curling.io/en/events/27188-monday-night
 -delta-thistle-open-doubles-league-2026-27-season/draws
END:VEVENT
BEGIN:VEVENT
DTSTAMP:20260419T170530Z
UID:drawid:207785
DTSTART:20261130T203000
DTEND:20261130T223000
DESCRIPTION:Games: TBD\, TBD
LOCATION:1415 84th Ave\, North Delta\, V4C 2L9\, BC\, CA
SEQUENCE:1776618330
SUMMARY:Monday Night Delta Thistle Open Doubles League – 2026/27 Season
URL;VALUE=URI:https://delta-thistle.curling.io/en/events/27188-monday-night
 -delta-thistle-open-doubles-league-2026-27-season/draws
END:VEVENT
BEGIN:VEVENT
DTSTAMP:20260419T170530Z
UID:drawid:207786
DTSTART:20261207T190000
DTEND:20261207T210000
DESCRIPTION:Games: TBD\, TBD
LOCATION:1415 84th Ave\, North Delta\, V4C 2L9\, BC\, CA
SEQUENCE:1776618330
SUMMARY:Monday Night Delta Thistle Open Doubles League – 2026/27 Season
URL;VALUE=URI:https://delta-thistle.curling.io/en/events/27188-monday-night
 -delta-thistle-open-doubles-league-2026-27-season/draws
END:VEVENT
BEGIN:VEVENT
DTSTAMP:20260419T170530Z
UID:drawid:207787
DTSTART:20261207T203000
DTEND:20261207T223000
DESCRIPTION:Games: TBD\, TBD
LOCATION:1415 84th Ave\, North Delta\, V4C 2L9\, BC\, CA
SEQUENCE:1776618330
SUMMARY:Monday Night Delta Thistle Open Doubles League – 2026/27 Season
URL;VALUE=URI:https://delta-thistle.curling.io/en/events/27188-monday-night
 -delta-thistle-open-doubles-league-2026-27-season/draws
END:VEVENT
BEGIN:VEVENT
DTSTAMP:20260419T170530Z
UID:drawid:207788
DTSTART:20261214T190000
DTEND:20261214T210000
DESCRIPTION:Games: TBD\, TBD
LOCATION:1415 84th Ave\, North Delta\, V4C 2L9\, BC\, CA
SEQUENCE:1776618330
SUMMARY:Monday Night Delta Thistle Open Doubles League – 2026/27 Season
URL;VALUE=URI:https://delta-thistle.curling.io/en/events/27188-monday-night
 -delta-thistle-open-doubles-league-2026-27-season/draws
END:VEVENT
BEGIN:VEVENT
DTSTAMP:20260419T170530Z
UID:drawid:207789
DTSTART:20261214T203000
DTEND:20261214T223000
DESCRIPTION:Games: TBD\, TBD
LOCATION:1415 84th Ave\, North Delta\, V4C 2L9\, BC\, CA
SEQUENCE:1776618330
SUMMARY:Monday Night Delta Thistle Open Doubles League – 2026/27 Season
URL;VALUE=URI:https://delta-thistle.curling.io/en/events/27188-monday-night
 -delta-thistle-open-doubles-league-2026-27-season/draws
END:VEVENT
BEGIN:VEVENT
DTSTAMP:20260419T170530Z
UID:drawid:207790
DTSTART:20270104T190000
DTEND:20270104T210000
DESCRIPTION:Games: TBD\, TBD
LOCATION:1415 84th Ave\, North Delta\, V4C 2L9\, BC\, CA
SEQUENCE:1776618330
SUMMARY:Monday Night Delta Thistle Open Doubles League – 2026/27 Season
URL;VALUE=URI:https://delta-thistle.curling.io/en/events/27188-monday-night
 -delta-thistle-open-doubles-league-2026-27-season/draws
END:VEVENT
BEGIN:VEVENT
DTSTAMP:20260419T170530Z
UID:drawid:207791
DTSTART:20270104T203000
DTEND:20270104T223000
DESCRIPTION:Games: TBD\, TBD
LOCATION:1415 84th Ave\, North Delta\, V4C 2L9\, BC\, CA
SEQUENCE:1776618330
SUMMARY:Monday Night Delta Thistle Open Doubles League – 2026/27 Season
URL;VALUE=URI:https://delta-thistle.curling.io/en/events/27188-monday-night
 -delta-thistle-open-doubles-league-2026-27-season/draws
END:VEVENT
BEGIN:VEVENT
DTSTAMP:20260419T170530Z
UID:drawid:207792
DTSTART:20270111T190000
DTEND:20270111T210000
DESCRIPTION:Games: TBD\, TBD
LOCATION:1415 84th Ave\, North Delta\, V4C 2L9\, BC\, CA
SEQUENCE:1776618330
SUMMARY:Monday Night Delta Thistle Open Doubles League – 2026/27 Season
URL;VALUE=URI:https://delta-thistle.curling.io/en/events/27188-monday-night
 -delta-thistle-open-doubles-league-2026-27-season/draws
END:VEVENT
BEGIN:VEVENT
DTSTAMP:20260419T170530Z
UID:drawid:207793
DTSTART:20270111T203000
DTEND:20270111T223000
DESCRIPTION:Games: TBD\, TBD
LOCATION:1415 84th Ave\, North Delta\, V4C 2L9\, BC\, CA
SEQUENCE:1776618330
SUMMARY:Monday Night Delta Thistle Open Doubles League – 2026/27 Season
URL;VALUE=URI:https://delta-thistle.curling.io/en/events/27188-monday-night
 -delta-thistle-open-doubles-league-2026-27-season/draws
END:VEVENT
BEGIN:VEVENT
DTSTAMP:20260419T170530Z
UID:drawid:207794
DTSTART:20270118T190000
DTEND:20270118T210000
DESCRIPTION:Games: TBD\, TBD
LOCATION:1415 84th Ave\, North Delta\, V4C 2L9\, BC\, CA
SEQUENCE:1776618330
SUMMARY:Monday Night Delta Thistle Open Doubles League – 2026/27 Season
URL;VALUE=URI:https://delta-thistle.curling.io/en/events/27188-monday-night
 -delta-thistle-open-doubles-league-2026-27-season/draws
END:VEVENT
BEGIN:VEVENT
DTSTAMP:20260419T170530Z
UID:drawid:207795
DTSTART:20270118T203000
DTEND:20270118T223000
DESCRIPTION:Games: TBD\, TBD
LOCATION:1415 84th Ave\, North Delta\, V4C 2L9\, BC\, CA
SEQUENCE:1776618330
SUMMARY:Monday Night Delta Thistle Open Doubles League – 2026/27 Season
URL;VALUE=URI:https://delta-thistle.curling.io/en/events/27188-monday-night
 -delta-thistle-open-doubles-league-2026-27-season/draws
END:VEVENT
BEGIN:VEVENT
DTSTAMP:20260419T170530Z
UID:drawid:207796
DTSTART:20270125T190000
DTEND:20270125T210000
DESCRIPTION:Games: TBD\, TBD
LOCATION:1415 84th Ave\, North Delta\, V4C 2L9\, BC\, CA
SEQUENCE:1776618330
SUMMARY:Monday Night Delta Thistle Open Doubles League – 2026/27 Season
URL;VALUE=URI:https://delta-thistle.curling.io/en/events/27188-monday-night
 -delta-thistle-open-doubles-league-2026-27-season/draws
END:VEVENT
BEGIN:VEVENT
DTSTAMP:20260419T170530Z
UID:drawid:207797
DTSTART:20270125T203000
DTEND:20270125T223000
DESCRIPTION:Games: TBD\, TBD
LOCATION:1415 84th Ave\, North Delta\, V4C 2L9\, BC\, CA
SEQUENCE:1776618330
SUMMARY:Monday Night Delta Thistle Open Doubles League – 2026/27 Season
URL;VALUE=URI:https://delta-thistle.curling.io/en/events/27188-monday-night
 -delta-thistle-open-doubles-league-2026-27-season/draws
END:VEVENT
BEGIN:VEVENT
DTSTAMP:20260419T170530Z
UID:drawid:207798
DTSTART:20270201T190000
DTEND:20270201T210000
DESCRIPTION:Games: TBD\, TBD
LOCATION:1415 84th Ave\, North Delta\, V4C 2L9\, BC\, CA
SEQUENCE:1776618330
SUMMARY:Monday Night Delta Thistle Open Doubles League – 2026/27 Season
URL;VALUE=URI:https://delta-thistle.curling.io/en/events/27188-monday-night
 -delta-thistle-open-doubles-league-2026-27-season/draws
END:VEVENT
BEGIN:VEVENT
DTSTAMP:20260419T170530Z
UID:drawid:207799
DTSTART:20270201T203000
DTEND:20270201T223000
DESCRIPTION:Games: TBD\, TBD
LOCATION:1415 84th Ave\, North Delta\, V4C 2L9\, BC\, CA
SEQUENCE:1776618330
SUMMARY:Monday Night Delta Thistle Open Doubles League – 2026/27 Season
URL;VALUE=URI:https://delta-thistle.curling.io/en/events/27188-monday-night
 -delta-thistle-open-doubles-league-2026-27-season/draws
END:VEVENT
BEGIN:VEVENT
DTSTAMP:20260419T170530Z
UID:drawid:207800
DTSTART:20270208T190000
DTEND:20270208T210000
DESCRIPTION:Games: TBD\, TBD
LOCATION:1415 84th Ave\, North Delta\, V4C 2L9\, BC\, CA
SEQUENCE:1776618330
SUMMARY:Monday Night Delta Thistle Open Doubles League – 2026/27 Season
URL;VALUE=URI:https://delta-thistle.curling.io/en/events/27188-monday-night
 -delta-thistle-open-doubles-league-2026-27-season/draws
END:VEVENT
BEGIN:VEVENT
DTSTAMP:20260419T170530Z
UID:drawid:207801
DTSTART:20270208T203000
DTEND:20270208T223000
DESCRIPTION:Games: TBD\, TBD
LOCATION:1415 84th Ave\, North Delta\, V4C 2L9\, BC\, CA
SEQUENCE:1776618330
SUMMARY:Monday Night Delta Thistle Open Doubles League – 2026/27 Season
URL;VALUE=URI:https://delta-thistle.curling.io/en/events/27188-monday-night
 -delta-thistle-open-doubles-league-2026-27-season/draws
END:VEVENT
BEGIN:VEVENT
DTSTAMP:20260419T170530Z
UID:drawid:207802
DTSTART:20270222T190000
DTEND:20270222T210000
DESCRIPTION:Games: TBD\, TBD
LOCATION:1415 84th Ave\, North Delta\, V4C 2L9\, BC\, CA
SEQUENCE:1776618330
SUMMARY:Monday Night Delta Thistle Open Doubles League – 2026/27 Season
URL;VALUE=URI:https://delta-thistle.curling.io/en/events/27188-monday-night
 -delta-thistle-open-doubles-league-2026-27-season/draws
END:VEVENT
BEGIN:VEVENT
DTSTAMP:20260419T170530Z
UID:drawid:207803
DTSTART:20270222T203000
DTEND:20270222T223000
DESCRIPTION:Games: TBD\, TBD
LOCATION:1415 84th Ave\, North Delta\, V4C 2L9\, BC\, CA
SEQUENCE:1776618330
SUMMARY:Monday Night Delta Thistle Open Doubles League – 2026/27 Season
URL;VALUE=URI:https://delta-thistle.curling.io/en/events/27188-monday-night
 -delta-thistle-open-doubles-league-2026-27-season/draws
END:VEVENT
BEGIN:VEVENT
DTSTAMP:20260419T170530Z
UID:drawid:207804
DTSTART:20270301T190000
DTEND:20270301T210000
DESCRIPTION:Games: TBD\, TBD
LOCATION:1415 84th Ave\, North Delta\, V4C 2L9\, BC\, CA
SEQUENCE:1776618330
SUMMARY:Monday Night Delta Thistle Open Doubles League – 2026/27 Season
URL;VALUE=URI:https://delta-thistle.curling.io/en/events/27188-monday-night
 -delta-thistle-open-doubles-league-2026-27-season/draws
END:VEVENT
BEGIN:VEVENT
DTSTAMP:20260419T170530Z
UID:drawid:207805
DTSTART:20270301T203000
DTEND:20270301T223000
DESCRIPTION:Games: TBD\, TBD
LOCATION:1415 84th Ave\, North Delta\, V4C 2L9\, BC\, CA
SEQUENCE:1776618330
SUMMARY:Monday Night Delta Thistle Open Doubles League – 2026/27 Season
URL;VALUE=URI:https://delta-thistle.curling.io/en/events/27188-monday-night
 -delta-thistle-open-doubles-league-2026-27-season/draws
END:VEVENT
BEGIN:VEVENT
DTSTAMP:20260419T170530Z
UID:drawid:207806
DTSTART:20270308T190000
DTEND:20270308T210000
DESCRIPTION:Games: TBD\, TBD
LOCATION:1415 84th Ave\, North Delta\, V4C 2L9\, BC\, CA
SEQUENCE:1776618330
SUMMARY:Monday Night Delta Thistle Open Doubles League – 2026/27 Season
URL;VALUE=URI:https://delta-thistle.curling.io/en/events/27188-monday-night
 -delta-thistle-open-doubles-league-2026-27-season/draws
END:VEVENT
BEGIN:VEVENT
DTSTAMP:20260419T170530Z
UID:drawid:207807
DTSTART:20270308T203000
DTEND:20270308T223000
DESCRIPTION:Games: TBD\, TBD
LOCATION:1415 84th Ave\, North Delta\, V4C 2L9\, BC\, CA
SEQUENCE:1776618330
SUMMARY:Monday Night Delta Thistle Open Doubles League – 2026/27 Season
URL;VALUE=URI:https://delta-thistle.curling.io/en/events/27188-monday-night
 -delta-thistle-open-doubles-league-2026-27-season/draws
END:VEVENT
BEGIN:VEVENT
DTSTAMP:20260419T170530Z
UID:drawid:207808
DTSTART:20270315T190000
DTEND:20270315T210000
DESCRIPTION:Games: TBD\, TBD
LOCATION:1415 84th Ave\, North Delta\, V4C 2L9\, BC\, CA
SEQUENCE:1776618330
SUMMARY:Monday Night Delta Thistle Open Doubles League – 2026/27 Season
URL;VALUE=URI:https://delta-thistle.curling.io/en/events/27188-monday-night
 -delta-thistle-open-doubles-league-2026-27-season/draws
END:VEVENT
BEGIN:VEVENT
DTSTAMP:20260419T170530Z
UID:drawid:207809
DTSTART:20270315T203000
DTEND:20270315T223000
DESCRIPTION:Games: TBD\, TBD
LOCATION:1415 84th Ave\, North Delta\, V4C 2L9\, BC\, CA
SEQUENCE:1776618330
SUMMARY:Monday Night Delta Thistle Open Doubles League – 2026/27 Season
URL;VALUE=URI:https://delta-thistle.curling.io/en/events/27188-monday-night
 -delta-thistle-open-doubles-league-2026-27-season/draws
END:VEVENT
BEGIN:VEVENT
DTSTAMP:20260419T170530Z
UID:drawid:207810
DTSTART:20270322T190000
DTEND:20270322T210000
DESCRIPTION:Games: TBD\, TBD
LOCATION:1415 84th Ave\, North Delta\, V4C 2L9\, BC\, CA
SEQUENCE:1776618330
SUMMARY:Monday Night Delta Thistle Open Doubles League – 2026/27 Season
URL;VALUE=URI:https://delta-thistle.curling.io/en/events/27188-monday-night
 -delta-thistle-open-doubles-league-2026-27-season/draws
END:VEVENT
BEGIN:VEVENT
DTSTAMP:20260419T170530Z
UID:drawid:207811
DTSTART:20270322T203000
DTEND:20270322T223000
DESCRIPTION:Games: TBD\, TBD
LOCATION:1415 84th Ave\, North Delta\, V4C 2L9\, BC\, CA
SEQUENCE:1776618330
SUMMARY:Monday Night Delta Thistle Open Doubles League – 2026/27 Season
URL;VALUE=URI:https://delta-thistle.curling.io/en/events/27188-monday-night
 -delta-thistle-open-doubles-league-2026-27-season/draws
END:VEVENT
END:VCALENDAR
